BEGIN:VCALENDAR
VERSION:2.0
PRODID:icalendar-ruby
CALSCALE:GREGORIAN
METHOD:PUBLISH
BEGIN:VEVENT
DTSTAMP:20260423T015121Z
UID:245-172501@ctk-nola.org
DTSTART:20261018T140000Z
DTEND:20261018T150000Z
CLASS:PUBLIC
CREATED:20260422T182328
DESCRIPTION:
LAST-MODIFIED:20260422T182328
LOCATION:CTK in the Conference/Choir Room
SUMMARY:Adult Bible Study
URL;VALUE=URI:https://ctk-nola.org/events/adult-bible-study--245/2026-10-18
END:VEVENT
END:VCALENDAR
