BEGIN:VCALENDAR
VERSION:2.0
PRODID:icalendar-ruby
CALSCALE:GREGORIAN
METHOD:PUBLISH
BEGIN:VEVENT
DTSTAMP:20260420T065344Z
UID:245-171979@ctk-nola.org
DTSTART:20260726T140000Z
DTEND:20260726T150000Z
CLASS:PUBLIC
CREATED:20260420T013813
DESCRIPTION:
LAST-MODIFIED:20260420T013813
LOCATION:CTK in the Conference/Choir Room
SUMMARY:Adult Bible Study
URL;VALUE=URI:https://ctk-nola.org/events/adult-bible-study--245/2026-07-26
END:VEVENT
END:VCALENDAR
