BEGIN:VCALENDAR
VERSION:2.0
PRODID:icalendar-ruby
CALSCALE:GREGORIAN
METHOD:PUBLISH
BEGIN:VEVENT
DTSTAMP:20260420T050607Z
UID:245-171948@ctk-nola.org
DTSTART:20260719T140000Z
DTEND:20260719T150000Z
CLASS:PUBLIC
CREATED:20260419T220119
DESCRIPTION:
LAST-MODIFIED:20260419T220119
LOCATION:CTK in the Conference/Choir Room
SUMMARY:Adult Bible Study
URL;VALUE=URI:https://ctk-nola.org/events/adult-bible-study--245/2026-07-19
END:VEVENT
END:VCALENDAR
