BEGIN:VCALENDAR
VERSION:2.0
PRODID:icalendar-ruby
CALSCALE:GREGORIAN
METHOD:PUBLISH
BEGIN:VEVENT
DTSTAMP:20260419T214359Z
UID:245-171884@ctk-nola.org
DTSTART:20260621T140000Z
DTEND:20260621T150000Z
CLASS:PUBLIC
CREATED:20260419T143954
DESCRIPTION:
LAST-MODIFIED:20260419T143954
LOCATION:CTK in the Conference/Choir Room
SUMMARY:Adult Bible Study
URL;VALUE=URI:https://ctk-nola.org/events/adult-bible-study--245/2026-06-21
END:VEVENT
END:VCALENDAR
