BEGIN:VCALENDAR
VERSION:2.0
PRODID:icalendar-ruby
CALSCALE:GREGORIAN
METHOD:PUBLISH
BEGIN:VEVENT
DTSTAMP:20260419T182053Z
UID:245-171852@ctk-nola.org
DTSTART:20260607T140000Z
DTEND:20260607T150000Z
CLASS:PUBLIC
CREATED:20260419T105726
DESCRIPTION:
LAST-MODIFIED:20260419T105726
LOCATION:CTK in the Conference/Choir Room
SUMMARY:Adult Bible Study
URL;VALUE=URI:https://ctk-nola.org/events/adult-bible-study--245/2026-06-07
END:VEVENT
END:VCALENDAR
